BEGIN:VCALENDAR
VERSION:2.0
PRODID:-//swoogo.com//NONSGML kigkonsult.se iCalcreator 2.41.90//
CALSCALE:GREGORIAN
UID:33626664-3466-4061-b638-333832663339
BEGIN:VEVENT
UID:394fa559efe264e998fafb07bc940beb90f33c09@swoogo.com
DTSTAMP:20260422T124506Z
DESCRIPTION:A practical masterclass by Liberty Communications\, hosted by D
 3IP\, for founders and small teams who need to turn complex tech into clea
 r\, compelling stories the media wants to cover.\n\nIf you’re working in d
 efence\, dual‑use\, or frontier tech\, you already know credibility and tr
 ust are everything. This hands‑on session demystifies public relations and
  shows you exactly how to plan\, pitch and earn coverage without big‑agenc
 y budgets.\n\nYou’ll learn how journalists choose stories\, how to frame y
 our innovation for non‑technical audiences\, and how to use PR to grow and
  succeed. You’ll leave with a practical PR plan\, ready‑to‑use templates\,
  and an understanding of key topics (how PR works in practice\, core tools
  and channels\, the rise of LLMs\, crisis comms & media training).
DTSTART:20260423T120000Z
DTEND:20260423T150000Z
LAST-MODIFIED:20260422T124506Z
LOCATION:BattleLab\, Dorset Innovation Park\, Winfrith Newburgh Dorset DT2 
 8GB\, United Kingdom
SEQUENCE:0
STATUS:CONFIRMED
SUMMARY:From Innovation to Influence: An Introduction to PR
TRANSP:OPAQUE
X-ALT-DESC;FMTTYPE=text/html:<p>A practical masterclass by Liberty Communic
 ations\, hosted by D3IP\, for founders and small teams who need to turn co
 mplex tech into clear\, compelling stories the media wants to cover.</p>\n
 \n<p>If you’re working in defence\, dual‑use\, or frontier tech\, you alre
 ady know credibility and trust are everything. This hands‑on session demys
 tifies public relations and shows you exactly how to plan\, pitch and earn
  coverage without big‑agency budgets.</p>\n\n<p>You’ll learn how journalis
 ts choose stories\, how to frame your innovation for non‑technical audienc
 es\, and how to use PR to grow and succeed. You’ll leave with a practical 
 PR plan\, ready‑to‑use templates\, and an understanding of key topics (how
  PR works in practice\, core tools and channels\, the rise of LLMs\, crisi
 s comms & media training).</p>
BEGIN:VALARM
UID:65623464-3834-4063-b935-313833663661
ACTION:DISPLAY
DESCRIPTION:A practical masterclass by Liberty Communications\, hosted by D
 3IP\, for founders and small teams who need to turn complex tech into clea
 r\, compelling stories the media wants to cover.\n\nIf you’re working in d
 efence\, dual‑use\, or frontier tech\, you already know credibility and tr
 ust are everything. This hands‑on session demystifies public relations and
  shows you exactly how to plan\, pitch and earn coverage without big‑agenc
 y budgets.\n\nYou’ll learn how journalists choose stories\, how to frame y
 our innovation for non‑technical audiences\, and how to use PR to grow and
  succeed. You’ll leave with a practical PR plan\, ready‑to‑use templates\,
  and an understanding of key topics (how PR works in practice\, core tools
  and channels\, the rise of LLMs\, crisis comms & media training).
TRIGGER:-P1D
END:VALARM
END:VEVENT
END:VCALENDAR
